  BEGIN:VCALENDAR
VERSION:2.0
PRODID:-//eventon.com NONSGML v1.0//EN
CALSCALE:GREGORIAN
METHOD:PUBLISH
BEGIN:VEVENT
UID:69e7a69dc677b
DTSTAMP:20260421T163229Z
DTSTART:20260513T080000Z
DTEND:20260513T123000Z
LOCATION:
SUMMARY:Travetur ved Malpasset
DESCRIPTION:Travetur ved Malpasset &#8211; onsdag den 13. maj 2026 Travetur
  til det imponerende Barrage de Malpasset. Uden for Frejus\,  ved afkørsel
  nummer 38 på motorvejen A8\,  er der i baglandet en vanddæmning som bras
 te i 1959. Vandmasserne flyttede kæmpe betonklodser fra dæmningen langt n
 ed mod Frejus og flodbølgen der ramte[..]\nhttps://club-danois.com/events/
 travetur-ved-malpasset/
URL:https://club-danois.com/events/travetur-ved-malpasset/
END:VEVENT
END:VCALENDAR