  BEGIN:VCALENDAR
VERSION:2.0
PRODID:-//eventon.com NONSGML v1.0//EN
CALSCALE:GREGORIAN
METHOD:PUBLISH
BEGIN:VEVENT
UID:69ea8d24aadca
DTSTAMP:20260423T212036Z
DTSTART:20250913T113000Z
DTEND:20250913T125900Z
LOCATION:
SUMMARY:Foredrag om fransk-danske arveforhold og generationsskifte - lørdag den 13. september kl. 13.30 - SALG AFSLUTTET
DESCRIPTION:Foredrag med Advokat Ann-Sofie Kold om fransk-danske arveforhol
 d og generationsskifte &#8211; lørdag den 13. september kl. 13.30 BEMÆRK:
  Foredraget afholdes på LAGON inden Welcome Home Party kl. 15.00. Advokat 
 Ann-Sofie Kold vil dele sin ekspertise inden for de juridiske forskelle og 
 faldgruber\,  der kan opstå\,  når arv og dødsbo berører[..]\nhttps://c
 lub-danois.com/events/foredrag-om-fransk-danske-arveforhold-og-generationss
 kifte-loerdag-den-13-september-kl-13-30/
URL:https://club-danois.com/events/foredrag-om-fransk-danske-arveforhold-og-generationsskifte-loerdag-den-13-september-kl-13-30/
END:VEVENT
END:VCALENDAR